BEGIN:VCALENDAR
VERSION:2.0
PRODID:-//Hallamshire Ski Club - ECPv6.15.17.1//NONSGML v1.0//EN
CALSCALE:GREGORIAN
METHOD:PUBLISH
X-WR-CALNAME:Hallamshire Ski Club
X-ORIGINAL-URL:https://www.hscski.uk/HALLAMSC
X-WR-CALDESC:Events for Hallamshire Ski Club
REFRESH-INTERVAL;VALUE=DURATION:PT1H
X-Robots-Tag:noindex
X-PUBLISHED-TTL:PT1H
BEGIN:VTIMEZONE
TZID:Europe/London
BEGIN:DAYLIGHT
TZOFFSETFROM:+0000
TZOFFSETTO:+0100
TZNAME:BST
DTSTART:20220327T010000
END:DAYLIGHT
BEGIN:STANDARD
TZOFFSETFROM:+0100
TZOFFSETTO:+0000
TZNAME:GMT
DTSTART:20221030T010000
END:STANDARD
BEGIN:DAYLIGHT
TZOFFSETFROM:+0000
TZOFFSETTO:+0100
TZNAME:BST
DTSTART:20230326T010000
END:DAYLIGHT
BEGIN:STANDARD
TZOFFSETFROM:+0100
TZOFFSETTO:+0000
TZNAME:GMT
DTSTART:20231029T010000
END:STANDARD
BEGIN:DAYLIGHT
TZOFFSETFROM:+0000
TZOFFSETTO:+0100
TZNAME:BST
DTSTART:20240331T010000
END:DAYLIGHT
BEGIN:STANDARD
TZOFFSETFROM:+0100
TZOFFSETTO:+0000
TZNAME:GMT
DTSTART:20241027T010000
END:STANDARD
END:VTIMEZONE
BEGIN:VEVENT
DTSTART;TZID=Europe/London:20230928T200000
DTEND;TZID=Europe/London:20230928T220000
DTSTAMP:20260421T122200
CREATED:20230818T070558Z
LAST-MODIFIED:20230818T184110Z
UID:375-1695931200-1695938400@www.hscski.uk
SUMMARY:September 2023 club meeting
DESCRIPTION:
URL:https://www.hscski.uk/HALLAMSC/event/september-club-meeting/
LOCATION:The Cross Scythes Pub\, Baslow Road\, Totley\,\, Sheffield\,\, South Yorkshire\, GB S17 4AE\, United Kingdom
CATEGORIES:Monthly club meetings
END:VEVENT
END:VCALENDAR